BEGIN:VCALENDAR
VERSION:2.0
PRODID:-//Musikverein Öpfingen e.V. - ECPv6.15.16//NONSGML v1.0//EN
CALSCALE:GREGORIAN
METHOD:PUBLISH
X-ORIGINAL-URL:https://musikverein-oepfingen.de
X-WR-CALDESC:Veranstaltungen für Musikverein Öpfingen e.V.
REFRESH-INTERVAL;VALUE=DURATION:PT1H
X-Robots-Tag:noindex
X-PUBLISHED-TTL:PT1H
BEGIN:VTIMEZONE
TZID:Europe/Berlin
BEGIN:DAYLIGHT
TZOFFSETFROM:+0100
TZOFFSETTO:+0200
TZNAME:CEST
DTSTART:20250330T010000
END:DAYLIGHT
BEGIN:STANDARD
TZOFFSETFROM:+0200
TZOFFSETTO:+0100
TZNAME:CET
DTSTART:20251026T010000
END:STANDARD
BEGIN:DAYLIGHT
TZOFFSETFROM:+0100
TZOFFSETTO:+0200
TZNAME:CEST
DTSTART:20260329T010000
END:DAYLIGHT
BEGIN:STANDARD
TZOFFSETFROM:+0200
TZOFFSETTO:+0100
TZNAME:CET
DTSTART:20261025T010000
END:STANDARD
BEGIN:DAYLIGHT
TZOFFSETFROM:+0100
TZOFFSETTO:+0200
TZNAME:CEST
DTSTART:20270328T010000
END:DAYLIGHT
BEGIN:STANDARD
TZOFFSETFROM:+0200
TZOFFSETTO:+0100
TZNAME:CET
DTSTART:20271031T010000
END:STANDARD
END:VTIMEZONE
BEGIN:VEVENT
DTSTART;TZID=Europe/Berlin:20260103T190000
DTEND;TZID=Europe/Berlin:20260103T233000
DTSTAMP:20260421T113511
CREATED:20241101T190735Z
LAST-MODIFIED:20251204T185548Z
UID:4132-1767466800-1767483000@musikverein-oepfingen.de
SUMMARY:Jahresessen (intern)
DESCRIPTION:
URL:https://musikverein-oepfingen.de/event/jahresessen/
LOCATION:Probelokal MV Öpfingen\, Kirchgasse 4\, Öpfingen\, Baden-Württemberg\, 89614\, Germany
END:VEVENT
BEGIN:VEVENT
DTSTART;TZID=Europe/Berlin:20260107T200000
DTEND;TZID=Europe/Berlin:20260107T220000
DTSTAMP:20260421T113511
CREATED:20251204T185852Z
LAST-MODIFIED:20251204T190219Z
UID:4813-1767816000-1767823200@musikverein-oepfingen.de
SUMMARY:1. Probe
DESCRIPTION:
URL:https://musikverein-oepfingen.de/event/1-probe/
END:VEVENT
BEGIN:VEVENT
DTSTART;TZID=Europe/Berlin:20260124T163000
DTEND;TZID=Europe/Berlin:20260124T190000
DTSTAMP:20260421T113511
CREATED:20250124T153053Z
LAST-MODIFIED:20251228T163751Z
UID:4135-1769272200-1769281200@musikverein-oepfingen.de
SUMMARY:Umzug-Donauratzen-Öpfingen
DESCRIPTION:
URL:https://musikverein-oepfingen.de/event/umzug-donauratzen-oepfingen/
END:VEVENT
END:VCALENDAR