BEGIN:VCALENDAR
VERSION:2.0
PRODID:-//Musikverein Öpfingen e.V. - ECPv6.15.16//NONSGML v1.0//EN
CALSCALE:GREGORIAN
METHOD:PUBLISH
X-ORIGINAL-URL:https://musikverein-oepfingen.de
X-WR-CALDESC:Veranstaltungen für Musikverein Öpfingen e.V.
REFRESH-INTERVAL;VALUE=DURATION:PT1H
X-Robots-Tag:noindex
X-PUBLISHED-TTL:PT1H
BEGIN:VTIMEZONE
TZID:Europe/Berlin
BEGIN:DAYLIGHT
TZOFFSETFROM:+0100
TZOFFSETTO:+0200
TZNAME:CEST
DTSTART:20240331T010000
END:DAYLIGHT
BEGIN:STANDARD
TZOFFSETFROM:+0200
TZOFFSETTO:+0100
TZNAME:CET
DTSTART:20241027T010000
END:STANDARD
BEGIN:DAYLIGHT
TZOFFSETFROM:+0100
TZOFFSETTO:+0200
TZNAME:CEST
DTSTART:20250330T010000
END:DAYLIGHT
BEGIN:STANDARD
TZOFFSETFROM:+0200
TZOFFSETTO:+0100
TZNAME:CET
DTSTART:20251026T010000
END:STANDARD
BEGIN:DAYLIGHT
TZOFFSETFROM:+0100
TZOFFSETTO:+0200
TZNAME:CEST
DTSTART:20260329T010000
END:DAYLIGHT
BEGIN:STANDARD
TZOFFSETFROM:+0200
TZOFFSETTO:+0100
TZNAME:CET
DTSTART:20261025T010000
END:STANDARD
END:VTIMEZONE
BEGIN:VEVENT
DTSTART;TZID=Europe/Berlin:20251205T200000
DTEND;TZID=Europe/Berlin:20251207T130000
DTSTAMP:20260421T125126
CREATED:20241101T185449Z
LAST-MODIFIED:20250413T121138Z
UID:4126-1764964800-1765112400@musikverein-oepfingen.de
SUMMARY:Probenwochenende Aktive im Schlosshof
DESCRIPTION:
URL:https://musikverein-oepfingen.de/event/probenwochenende-aktive-in-oepfingen/
END:VEVENT
BEGIN:VEVENT
DTSTART;TZID=Europe/Berlin:20251226T193000
DTEND;TZID=Europe/Berlin:20251226T233000
DTSTAMP:20260421T125126
CREATED:20241101T190446Z
LAST-MODIFIED:20250413T121235Z
UID:4128-1766777400-1766791800@musikverein-oepfingen.de
SUMMARY:Weihnachstkonzert
DESCRIPTION:
URL:https://musikverein-oepfingen.de/event/weihnachstkonzert/
LOCATION:Mehrzweckhalle Öpfingen\, Schulstraße 27\, Öpfingen\, Baden-Württemberg\, 89614\, Deutschland
END:VEVENT
END:VCALENDAR