BEGIN:VCALENDAR
VERSION:2.0
PRODID:-//Musikverein Öpfingen e.V. - ECPv6.15.16//NONSGML v1.0//EN
CALSCALE:GREGORIAN
METHOD:PUBLISH
X-WR-CALNAME:Musikverein Öpfingen e.V.
X-ORIGINAL-URL:https://musikverein-oepfingen.de
X-WR-CALDESC:Veranstaltungen für Musikverein Öpfingen e.V.
REFRESH-INTERVAL;VALUE=DURATION:PT1H
X-Robots-Tag:noindex
X-PUBLISHED-TTL:PT1H
BEGIN:VTIMEZONE
TZID:Europe/Berlin
BEGIN:DAYLIGHT
TZOFFSETFROM:+0100
TZOFFSETTO:+0200
TZNAME:CEST
DTSTART:20240331T010000
END:DAYLIGHT
BEGIN:STANDARD
TZOFFSETFROM:+0200
TZOFFSETTO:+0100
TZNAME:CET
DTSTART:20241027T010000
END:STANDARD
BEGIN:DAYLIGHT
TZOFFSETFROM:+0100
TZOFFSETTO:+0200
TZNAME:CEST
DTSTART:20250330T010000
END:DAYLIGHT
BEGIN:STANDARD
TZOFFSETFROM:+0200
TZOFFSETTO:+0100
TZNAME:CET
DTSTART:20251026T010000
END:STANDARD
BEGIN:DAYLIGHT
TZOFFSETFROM:+0100
TZOFFSETTO:+0200
TZNAME:CEST
DTSTART:20260329T010000
END:DAYLIGHT
BEGIN:STANDARD
TZOFFSETFROM:+0200
TZOFFSETTO:+0100
TZNAME:CET
DTSTART:20261025T010000
END:STANDARD
END:VTIMEZONE
BEGIN:VEVENT
DTSTART;TZID=Europe/Berlin:20250705T000000
DTEND;TZID=Europe/Berlin:20250705T235959
DTSTAMP:20260421T195604
CREATED:20250413T120027Z
LAST-MODIFIED:20250413T120028Z
UID:4591-1751673600-1751759999@musikverein-oepfingen.de
SUMMARY:Musikerhochzeit
DESCRIPTION:Ramona und Kai sagen „JA“
URL:https://musikverein-oepfingen.de/event/musikerhochzeit/
END:VEVENT
BEGIN:VEVENT
DTSTART;TZID=Europe/Berlin:20250713T190000
DTEND;TZID=Europe/Berlin:20250713T230000
DTSTAMP:20260421T195604
CREATED:20250413T120240Z
LAST-MODIFIED:20250413T120606Z
UID:4593-1752433200-1752447600@musikverein-oepfingen.de
SUMMARY:Sommerserenade
DESCRIPTION:Lauer Sommerabend und feine Musik – unser Vororchester „MVÖ-Smarties“ und der Musikverein Öpfingen freuen sich auf viele Zuhörer vor dem Öpfinger Schloss
URL:https://musikverein-oepfingen.de/event/sommerserenade/
END:VEVENT
BEGIN:VEVENT
DTSTART;TZID=Europe/Berlin:20250719T190000
DTEND;TZID=Europe/Berlin:20250719T233000
DTSTAMP:20260421T195604
CREATED:20250413T120351Z
LAST-MODIFIED:20250413T120352Z
UID:4595-1752951600-1752967800@musikverein-oepfingen.de
SUMMARY:Grillfest
DESCRIPTION:
URL:https://musikverein-oepfingen.de/event/grillfest/
END:VEVENT
END:VCALENDAR