BEGIN:VCALENDAR
VERSION:2.0
PRODID:-//Musikverein Öpfingen e.V. - ECPv6.15.16//NONSGML v1.0//EN
CALSCALE:GREGORIAN
METHOD:PUBLISH
X-WR-CALNAME:Musikverein Öpfingen e.V.
X-ORIGINAL-URL:https://musikverein-oepfingen.de
X-WR-CALDESC:Veranstaltungen für Musikverein Öpfingen e.V.
REFRESH-INTERVAL;VALUE=DURATION:PT1H
X-Robots-Tag:noindex
X-PUBLISHED-TTL:PT1H
BEGIN:VTIMEZONE
TZID:Europe/Berlin
BEGIN:DAYLIGHT
TZOFFSETFROM:+0100
TZOFFSETTO:+0200
TZNAME:CEST
DTSTART:20240331T010000
END:DAYLIGHT
BEGIN:STANDARD
TZOFFSETFROM:+0200
TZOFFSETTO:+0100
TZNAME:CET
DTSTART:20241027T010000
END:STANDARD
BEGIN:DAYLIGHT
TZOFFSETFROM:+0100
TZOFFSETTO:+0200
TZNAME:CEST
DTSTART:20250330T010000
END:DAYLIGHT
BEGIN:STANDARD
TZOFFSETFROM:+0200
TZOFFSETTO:+0100
TZNAME:CET
DTSTART:20251026T010000
END:STANDARD
BEGIN:DAYLIGHT
TZOFFSETFROM:+0100
TZOFFSETTO:+0200
TZNAME:CEST
DTSTART:20260329T010000
END:DAYLIGHT
BEGIN:STANDARD
TZOFFSETFROM:+0200
TZOFFSETTO:+0100
TZNAME:CET
DTSTART:20261025T010000
END:STANDARD
BEGIN:DAYLIGHT
TZOFFSETFROM:+0100
TZOFFSETTO:+0200
TZNAME:CEST
DTSTART:20270328T010000
END:DAYLIGHT
BEGIN:STANDARD
TZOFFSETFROM:+0200
TZOFFSETTO:+0100
TZNAME:CET
DTSTART:20271031T010000
END:STANDARD
END:VTIMEZONE
BEGIN:VEVENT
DTSTART;TZID=Europe/Berlin:20250609T093000
DTEND;TZID=Europe/Berlin:20250609T140000
DTSTAMP:20260421T211229
CREATED:20241113T211733Z
LAST-MODIFIED:20250529T082449Z
UID:4220-1749461400-1749477600@musikverein-oepfingen.de
SUMMARY:Pfingstfest Altheim
DESCRIPTION:
URL:https://musikverein-oepfingen.de/event/pfingstfest-altheim/
END:VEVENT
BEGIN:VEVENT
DTSTART;TZID=Europe/Berlin:20250619T083000
DTEND;TZID=Europe/Berlin:20250619T103000
DTSTAMP:20260421T211229
CREATED:20250413T115932Z
LAST-MODIFIED:20250413T115933Z
UID:4589-1750321800-1750329000@musikverein-oepfingen.de
SUMMARY:Prozession Fronleichnam
DESCRIPTION:Kirchlicher Anlass: Feierliche Prozession in Öpfingen
URL:https://musikverein-oepfingen.de/event/prozession-fronleichnam/
END:VEVENT
BEGIN:VEVENT
DTSTART;TZID=Europe/Berlin:20250619T110000
DTEND;TZID=Europe/Berlin:20250619T140000
DTSTAMP:20260421T211229
CREATED:20241113T212133Z
LAST-MODIFIED:20241113T212133Z
UID:4224-1750330800-1750341600@musikverein-oepfingen.de
SUMMARY:Gartenfest Burgrieden
DESCRIPTION:
URL:https://musikverein-oepfingen.de/event/gartenfest-burgrieden/
END:VEVENT
BEGIN:VEVENT
DTSTART;TZID=Europe/Berlin:20260426T140000
DTEND;TZID=Europe/Berlin:20260426T163000
DTSTAMP:20260421T211229
CREATED:20241113T212338Z
LAST-MODIFIED:20251204T192729Z
UID:4226-1777212000-1777221000@musikverein-oepfingen.de
SUMMARY:100 Jahre MV Rißtissen
DESCRIPTION:
URL:https://musikverein-oepfingen.de/event/heimatfest-peter-paul-obermarchtal/
END:VEVENT
END:VCALENDAR