BEGIN:VCALENDAR
VERSION:2.0
PRODID:-//Musikverein Öpfingen e.V. - ECPv6.15.16//NONSGML v1.0//EN
CALSCALE:GREGORIAN
METHOD:PUBLISH
X-ORIGINAL-URL:https://musikverein-oepfingen.de
X-WR-CALDESC:Veranstaltungen für Musikverein Öpfingen e.V.
REFRESH-INTERVAL;VALUE=DURATION:PT1H
X-Robots-Tag:noindex
X-PUBLISHED-TTL:PT1H
BEGIN:VTIMEZONE
TZID:Europe/Berlin
BEGIN:DAYLIGHT
TZOFFSETFROM:+0100
TZOFFSETTO:+0200
TZNAME:CEST
DTSTART:20250330T010000
END:DAYLIGHT
BEGIN:STANDARD
TZOFFSETFROM:+0200
TZOFFSETTO:+0100
TZNAME:CET
DTSTART:20251026T010000
END:STANDARD
BEGIN:DAYLIGHT
TZOFFSETFROM:+0100
TZOFFSETTO:+0200
TZNAME:CEST
DTSTART:20260329T010000
END:DAYLIGHT
BEGIN:STANDARD
TZOFFSETFROM:+0200
TZOFFSETTO:+0100
TZNAME:CET
DTSTART:20261025T010000
END:STANDARD
BEGIN:DAYLIGHT
TZOFFSETFROM:+0100
TZOFFSETTO:+0200
TZNAME:CEST
DTSTART:20270328T010000
END:DAYLIGHT
BEGIN:STANDARD
TZOFFSETFROM:+0200
TZOFFSETTO:+0100
TZNAME:CET
DTSTART:20271031T010000
END:STANDARD
END:VTIMEZONE
BEGIN:VEVENT
DTSTART;TZID=Europe/Berlin:20260308T100000
DTEND;TZID=Europe/Berlin:20260308T190000
DTSTAMP:20260421T102330
CREATED:20241101T193733Z
LAST-MODIFIED:20251019T180318Z
UID:4146-1772964000-1772996400@musikverein-oepfingen.de
SUMMARY:42. Starkbierfest - bayrische Gemütlichkeit
DESCRIPTION:Frühschoppen mit dem MV Öpfingen \n\n\n\nNachmittagsunterhaltung mit dem Musikverein Oberdischingen \n\n\n\n 
URL:https://musikverein-oepfingen.de/event/41-starkbierfest/
LOCATION:Mehrzweckhalle Öpfingen\, Schulstraße 27\, Öpfingen\, Baden-Württemberg\, 89614\, Deutschland
ORGANIZER;CN="F%C3%B6rderverein des MV%C3%96":MAILTO:info@musikverein-oepfingen.de
END:VEVENT
END:VCALENDAR